BEGIN:VCALENDAR
VERSION:2.0
PRODID:-//CEMUS - ECPv6.15.20//NONSGML v1.0//EN
CALSCALE:GREGORIAN
METHOD:PUBLISH
X-WR-CALNAME:CEMUS
X-ORIGINAL-URL:https://www.cemus.uu.se
X-WR-CALDESC:Events for CEMUS
REFRESH-INTERVAL;VALUE=DURATION:PT1H
X-Robots-Tag:noindex
X-PUBLISHED-TTL:PT1H
BEGIN:VTIMEZONE
TZID:Europe/Helsinki
BEGIN:DAYLIGHT
TZOFFSETFROM:+0200
TZOFFSETTO:+0300
TZNAME:EEST
DTSTART:20210328T010000
END:DAYLIGHT
BEGIN:STANDARD
TZOFFSETFROM:+0300
TZOFFSETTO:+0200
TZNAME:EET
DTSTART:20211031T010000
END:STANDARD
BEGIN:DAYLIGHT
TZOFFSETFROM:+0200
TZOFFSETTO:+0300
TZNAME:EEST
DTSTART:20220327T010000
END:DAYLIGHT
BEGIN:STANDARD
TZOFFSETFROM:+0300
TZOFFSETTO:+0200
TZNAME:EET
DTSTART:20221030T010000
END:STANDARD
BEGIN:DAYLIGHT
TZOFFSETFROM:+0200
TZOFFSETTO:+0300
TZNAME:EEST
DTSTART:20230326T010000
END:DAYLIGHT
BEGIN:STANDARD
TZOFFSETFROM:+0300
TZOFFSETTO:+0200
TZNAME:EET
DTSTART:20231029T010000
END:STANDARD
END:VTIMEZONE
BEGIN:VEVENT
DTSTART;TZID=Europe/Helsinki:20220112T090000
DTEND;TZID=Europe/Helsinki:20220112T120000
DTSTAMP:20260425T181533
CREATED:20210928T094530Z
LAST-MODIFIED:20210928T094530Z
UID:30157-1641978000-1641988800@www.cemus.uu.se
SUMMARY:CEMUS LIBRARY - INTERNAL MEETING: CCS
DESCRIPTION:
URL:https://www.cemus.uu.se/calendar/cemus-library-internal-meeting-ccs-7/
END:VEVENT
BEGIN:VEVENT
DTSTART;TZID=Europe/Helsinki:20220113T150000
DTEND;TZID=Europe/Helsinki:20220113T170000
DTSTAMP:20260425T181533
CREATED:20211219T183528Z
LAST-MODIFIED:20211219T183528Z
UID:31575-1642086000-1642093200@www.cemus.uu.se
SUMMARY:CEMUS LIBRARY - INTERNAL MEETING: Kursarbetsgruppsmöte LF
DESCRIPTION:
URL:https://www.cemus.uu.se/calendar/cemus-library-internal-meeting-kursarbetsgruppsmote-lf/
END:VEVENT
BEGIN:VEVENT
DTSTART;TZID=Europe/Helsinki:20220117T181500
DTEND;TZID=Europe/Helsinki:20220117T200000
DTSTAMP:20260425T181533
CREATED:20220127T101848Z
LAST-MODIFIED:20220127T101848Z
UID:31951-1642443300-1642449600@www.cemus.uu.se
SUMMARY:ONLINE Jan 17: Open semester start-up lecture with Alan AtKisson
DESCRIPTION:Warmly welcome to CEMUS open spring semester start-up lecture with Alan AtKisson\, Assistant Director-General\, Sida\, “Sustainable Development: How We Got Here\, and Where We’re Going”!\n\nWhen: Monday January 17 at 18.15-20.00 \nWhere: Moved online. \nHow: Online via Zoom: https://uu-se.zoom.us/j/62319834776 Meeting ID: 623 1983 4776  \n\nAlan AtKisson\, Assistant Director-General\, Sida\nPhoto: Fredrik Persson Role at Sida\nAlan AtKisson serves as Assistant Director-General of Sida\, the Swedish International Development Cooperation Agency\, and leads the Department of Partnership and Innovation. The department manages grant portfolios and programs related to Sida’s work with capacity development\, civil society\, academic research\, development finance and guarantees\, business and the private sector\, institutional investors\, other bilateral donors\, and Swedish government agencies. Alan also leads Sida’s work with development-related innovation. He has over 30 years of international experience in the field of sustainable development\, working in a wide variety of leadership and advisory positions\, and is the author of several books on sustainability practice\, capacity development\, and change management. \nAdditional personal information\nPrior to joining Sida in 2018\, Alan worked principally as a senior advisor and consultant in the field of sustainability\, sustainable development\, and transformative change. He has advised national and local governments\, leading global companies\, international initiatives\, global NGOs\, and the United Nations Secretariat. At the UN\, Alan was involved in the early planning for the implementation of the 2030 Agenda and the Sustainable Development Goals\, among many other assignments.  \nAlan has led or co-founded several pioneering organizations and civil society initiatives\, starting with “Sustainable Seattle” (1990)\, a globally recognized and widely replicated model for promoting urban sustainability with indicators\, innovation\, and stakeholder engagement. Alan later developed tools and methods for sustainability learning\, planning\, and professional training that were documented in his books and adopted by schools\, organizations\, and training programs around the world. These contributions include the “Sustainability Compass\,” the “Pyramid” training workshop\, the “Amoeba” method of change-agent skills development\, and the “VISIS Method” for sustainable development planning. \nAlan also previously served as Executive Director of Earth Charter International (a civil society initiative founded in 1992 by Maurice Strong and Mikhail Gorbachev among others); Executive Director of a US-based economic think-tank called Redefining Progress; President of the Balaton Group\, a pioneering global network of sustainability and systems researchers; and advisor to the President of the European Commission on science and technology issues.  \nIn 2013 Alan was elected into the International Sustainability Hall of Fame for his numerous contributions to the development of sustainability as a profession. He lives in Stockholm. \n\nThis event is part CEMUS +30 anniversary celebration during 2022\, read more at: www.cemus.uu.se/cemus30
URL:https://www.cemus.uu.se/calendar/online-jan-17-open-semester-start-up-lecture-with-alan-atkisson/
ATTACH;FMTTYPE=image/jpeg:https://www.cemus.uu.se/wp-content/uploads/2021/11/Alan-AtKisson-medium.jpg
END:VEVENT
END:VCALENDAR